BEGIN:VCALENDAR
VERSION:2.0
PRODID:-//Ronny Coutteure - ECPv5.7.0//NONSGML v1.0//EN
CALSCALE:GREGORIAN
METHOD:PUBLISH
X-WR-CALNAME:Ronny Coutteure
X-ORIGINAL-URL:https://www.ronny-coutteure.fr
X-WR-CALDESC:évènements pour Ronny Coutteure
BEGIN:VTIMEZONE
TZID:Europe/Paris
BEGIN:DAYLIGHT
TZOFFSETFROM:+0100
TZOFFSETTO:+0200
TZNAME:CEST
DTSTART:20260329T010000
END:DAYLIGHT
BEGIN:STANDARD
TZOFFSETFROM:+0200
TZOFFSETTO:+0100
TZNAME:CET
DTSTART:20261025T010000
END:STANDARD
END:VTIMEZONE
BEGIN:VEVENT
DTSTART;TZID=Europe/Paris:20260603T190000
DTEND;TZID=Europe/Paris:20260603T220000
DTSTAMP:20260424T232609
CREATED:20250902T203117Z
LAST-MODIFIED:20250902T203314Z
UID:9570-1780513200-1780524000@www.ronny-coutteure.fr
SUMMARY:CinéSandwichs : Demain
DESCRIPTION:Face aux inquiétudes liées au dérèglement climatique et à la crise écologique\, Mélanie Laurent et Cyril Dion partent à la rencontre de pionniers qui mettent en place des solutions concrètes pour repenser l’agriculture\, l’énergie\, l’économie\, la démocratie et l’éducation. Le film propose un voyage inspirant à travers le monde pour montrer qu’un avenir durable est possible. \n\n\nTitre : Demain \n\n\nRéalisation : Cyril Dion & Mélanie Laurent \n\n\nPays : France \n\n\nGenre : Documentaire engagé \n\n\nDurée : 118 minutes \n\n\nDate de sortie : 2015 (France) \n\n\nLangue : Français (et autres\, selon les interviews) \n\n\nDistinctions : César du meilleur documentaire (2016) \n\n\n\nEntrée libre sur réservation
URL:https://www.ronny-coutteure.fr/evenement/cinesandwichs-demain/
LOCATION:Médiathèque-Estaminet\, 2ter\, rue Jules Guesde\, GRENAY\, 62160\, France
CATEGORIES:Cinésandwichs
ATTACH;FMTTYPE=image/jpeg:https://www.ronny-coutteure.fr/wp-content/uploads/2024/08/DEMAIN-JUIN.jpg
END:VEVENT
END:VCALENDAR