BEGIN:VCALENDAR
VERSION:2.0
PRODID:-//Ronny Coutteure - ECPv5.7.0//NONSGML v1.0//EN
CALSCALE:GREGORIAN
METHOD:PUBLISH
X-WR-CALNAME:Ronny Coutteure
X-ORIGINAL-URL:https://www.ronny-coutteure.fr
X-WR-CALDESC:évènements pour Ronny Coutteure
BEGIN:VTIMEZONE
TZID:Europe/Paris
BEGIN:DAYLIGHT
TZOFFSETFROM:+0100
TZOFFSETTO:+0200
TZNAME:CEST
DTSTART:20250330T010000
END:DAYLIGHT
BEGIN:STANDARD
TZOFFSETFROM:+0200
TZOFFSETTO:+0100
TZNAME:CET
DTSTART:20251026T010000
END:STANDARD
END:VTIMEZONE
BEGIN:VEVENT
DTSTART;TZID=Europe/Paris:20251001T190000
DTEND;TZID=Europe/Paris:20251001T190000
DTSTAMP:20260423T124940
CREATED:20250710T120333Z
LAST-MODIFIED:20250902T195923Z
UID:9275-1759345200-1759345200@www.ronny-coutteure.fr
SUMMARY:CinéSandwichs : Un p'tit truc en plus
DESCRIPTION:Pour échapper à la police\, un fils et son père en cavale sont contraints de trouver refuge dans une colonie de vacances pour jeunes adultes en situation de handicap\, se faisant passer pour un pensionnaire et son éducateur spécialisé. Le début des emmerdes et d’une formidable expérience humaine qui va les changer à jamais. \n1 mai 2024 en salle | 1h 39min | Comédie\nDe Artus\nPar Artus\, Milan Mauger\nAvec Artus\, Clovis Cornillac\, Alice Belaïdi\n\n Projections les 2 et 3 octobre à destination des élèves de la ville.\nEn lien avec les rencontres solidaires\, courses et randonnées avec le G’Run’AY.\n\n\nEntrée libre sur réservation
URL:https://www.ronny-coutteure.fr/evenement/cinesandwichs-un-ptit-truc-en-plus/
LOCATION:Médiathèque-Estaminet\, 2ter\, rue Jules Guesde\, GRENAY\, 62160\, France
CATEGORIES:Cinésandwichs
ATTACH;FMTTYPE=image/jpeg:https://www.ronny-coutteure.fr/wp-content/uploads/2024/08/UN-PTIT-TRUC-EN-PLUS-OCTOBRE.jpg
END:VEVENT
END:VCALENDAR