BEGIN:VCALENDAR
VERSION:2.0
PRODID:-//Ronny Coutteure - ECPv5.7.0//NONSGML v1.0//EN
CALSCALE:GREGORIAN
METHOD:PUBLISH
X-WR-CALNAME:Ronny Coutteure
X-ORIGINAL-URL:https://www.ronny-coutteure.fr
X-WR-CALDESC:évènements pour Ronny Coutteure
BEGIN:VTIMEZONE
TZID:Europe/Paris
BEGIN:DAYLIGHT
TZOFFSETFROM:+0100
TZOFFSETTO:+0200
TZNAME:CEST
DTSTART:20260329T010000
END:DAYLIGHT
BEGIN:STANDARD
TZOFFSETFROM:+0200
TZOFFSETTO:+0100
TZNAME:CET
DTSTART:20261025T010000
END:STANDARD
END:VTIMEZONE
BEGIN:VEVENT
DTSTART;TZID=Europe/Paris:20260327T200000
DTEND;TZID=Europe/Paris:20260327T220000
DTSTAMP:20260420T194627
CREATED:20250709T072755Z
LAST-MODIFIED:20250902T202514Z
UID:9212-1774641600-1774648800@www.ronny-coutteure.fr
SUMMARY:GENTICORUM DE PASCAL GEMME\, YANN FALQUET ET NICHOLAS WILLIAMS
DESCRIPTION:GENTICORUM\nPASCAL GEMME\, YANN FALQUET\nET NICHOLAS WILLIAMS\n \nAvec ses nominations aux Juno et à l’Adisq\, et ses quatre Prix de Musique Folk Canadienne\, Genticorum est parmi les groupes phares de la musique traditionnelle québécoise. Pascal Gemme (violon) et Yann Falquet (guitare)\, les deux membres fondateurs du trio sont également reconnus individuellement pour leur solide contribution à la scène musicale trad.\nIls sont rejoints depuis 2015 par le multiinstrumentiste virtuose et compositeur Nicholas Williams (flute\, accordéon); le plaisir qu’ont ces trois musiciens à jouer et créer ensemble est palpable\, autant sur scène que sur disque. En vingt-deux ans\, le trio s’est taillé une place de choix sur la scène internationale des musiques traditionnelles\, folk et celtiques dans une vingtaine de pays. \nEn coréalisation avec Droit de Cité dans le cadre du festival “les Enchanteurs”. \n « Genticorum: l’énergie acoustique – Nuancé dans l’approche\, rock dans l’attitude\, le power trio Genticorum est un parfait mélange de raffinement et de simplicité » Le Devoir\n\n«Difficile de croire qu’ils ne sont que trois. La qualité de l’interprétation et des harmonies vocales y est remarquable (…) Genticorum relance l’intéret pour un folklore dépouillé de tout artifice». Voir \n  \n \nDurée : 1h30 \nViolon\, voix : Pascal Gemme\nGuitare\, voix : Yann Falquet\nflute\, accordéon\, voix : Nicholas Williams\nCrédit photo : Dylan Ladds \nTarifs : voir page événement Festifolk
URL:https://www.ronny-coutteure.fr/evenement/genticorum-de-pascal-gemme-yann-falquet-et-nicholas-williams/
LOCATION:Espace culturel Ronny Coutteure\, 28bis\, boulevard des Flandres\, GRENAY\, 62160\, France
CATEGORIES:Concert,Festifolk,Musique
ATTACH;FMTTYPE=image/jpeg:https://www.ronny-coutteure.fr/wp-content/uploads/2025/07/Genticorum_PhotoDylanLadds6.jpg
END:VEVENT
END:VCALENDAR