BEGIN:VCALENDAR
VERSION:2.0
PRODID:-//Ronny Coutteure - ECPv5.7.0//NONSGML v1.0//EN
CALSCALE:GREGORIAN
METHOD:PUBLISH
X-WR-CALNAME:Ronny Coutteure
X-ORIGINAL-URL:https://www.ronny-coutteure.fr
X-WR-CALDESC:évènements pour Ronny Coutteure
BEGIN:VTIMEZONE
TZID:Europe/Paris
BEGIN:DAYLIGHT
TZOFFSETFROM:+0100
TZOFFSETTO:+0200
TZNAME:CEST
DTSTART:20260329T010000
END:DAYLIGHT
BEGIN:STANDARD
TZOFFSETFROM:+0200
TZOFFSETTO:+0100
TZNAME:CET
DTSTART:20261025T010000
END:STANDARD
END:VTIMEZONE
BEGIN:VEVENT
DTSTART;TZID=Europe/Paris:20260204T190000
DTEND;TZID=Europe/Paris:20260204T220000
DTSTAMP:20260423T124012
CREATED:20250902T201547Z
LAST-MODIFIED:20250902T201752Z
UID:9548-1770231600-1770242400@www.ronny-coutteure.fr
SUMMARY:CinéSandwichs : Service Public
DESCRIPTION:Ce documentaire suit le travail quotidien d’une rédaction de l’audiovisuel public en pleine période électorale. Entre contraintes de neutralité\, pression de l’opinion publique et enjeux démocratiques\, les journalistes dévoilent l’envers du décor : choix des sujets\, vérification des faits\, arbitrages éditoriaux… Le film met en lumière les dilemmes éthiques et professionnels qui se posent lorsqu’il s’agit de couvrir une élection dans un contexte de polarisation et de défiance médiatique. \n\n\nTitre : Service public : une rédaction face à une élection \n\n\nRéalisation : Blandine Grosjean & Jean-Baptiste Rivoire (à confirmer selon la diffusion) \n\n\nPays : France \n\n\nGenre : Documentaire \n\n\nDurée : env. 1h30 \n\n\nDate de sortie / diffusion : 2022 (diffusion télévisée sur France Télévisions\, rediffusions ensuite sur France.tv) \n\n\nLangue : Français \n\n\n\nEntrée libre sur réservation
URL:https://www.ronny-coutteure.fr/evenement/le-capital-au-xxie-siecle-copy/
LOCATION:Médiathèque-Estaminet\, 2ter\, rue Jules Guesde\, GRENAY\, 62160\, France
CATEGORIES:Cinésandwichs
ATTACH;FMTTYPE=image/jpeg:https://www.ronny-coutteure.fr/wp-content/uploads/2024/08/SERVICE-PUBLIC-FEVRIER.jpg
END:VEVENT
END:VCALENDAR