BEGIN:VCALENDAR
VERSION:2.0
PRODID:-//Ronny Coutteure - ECPv5.7.0//NONSGML v1.0//EN
CALSCALE:GREGORIAN
METHOD:PUBLISH
X-WR-CALNAME:Ronny Coutteure
X-ORIGINAL-URL:https://www.ronny-coutteure.fr
X-WR-CALDESC:évènements pour Ronny Coutteure
BEGIN:VTIMEZONE
TZID:Europe/Paris
BEGIN:DAYLIGHT
TZOFFSETFROM:+0100
TZOFFSETTO:+0200
TZNAME:CEST
DTSTART:20260329T010000
END:DAYLIGHT
BEGIN:STANDARD
TZOFFSETFROM:+0200
TZOFFSETTO:+0100
TZNAME:CET
DTSTART:20261025T010000
END:STANDARD
END:VTIMEZONE
BEGIN:VEVENT
DTSTART;TZID=Europe/Paris:20260107T190000
DTEND;TZID=Europe/Paris:20260107T220000
DTSTAMP:20260421T121956
CREATED:20250902T201251Z
LAST-MODIFIED:20260108T073521Z
UID:9546-1767812400-1767823200@www.ronny-coutteure.fr
SUMMARY:Annulé ! CinéSandwichs : Le capital au XXIe siècle
DESCRIPTION:Annulé en raison des intempéries \nAdapté du best-seller de l’économiste Thomas Piketty\, ce documentaire explore l’évolution des inégalités économiques depuis le XVIIIᵉ siècle jusqu’à nos jours. À travers des archives\, des interviews d’experts et une narration accessible\, il montre comment l’accumulation du capital et les dynamiques de richesse façonnent nos sociétés\, et questionne l’avenir face aux inégalités croissantes. \n\n\nTitre : Le Capital au XXIᵉ siècle \n\n\nRéalisateur : Justin Pemberton \n\n\nScénario : Justin Pemberton & Thomas Piketty (adaptation de son ouvrage) \n\n\nPays : France / Nouvelle-Zélande \n\n\nGenre : Documentaire \n\n\nDurée : 1h43 \n\n\nDate de sortie : 2019 (Festival de Toronto)\, sortie en France en 2020 \n\n\nProduction : Upside Distribution\, GFC Films\, Nouvelle-Zélande Film Commission \n\n\nLangue : Français / Anglais (selon versions) \n\n\n\nEntrée libre sur réservation
URL:https://www.ronny-coutteure.fr/evenement/le-capital-au-xxie-siecle/
LOCATION:Médiathèque-Estaminet\, 2ter\, rue Jules Guesde\, GRENAY\, 62160\, France
CATEGORIES:Cinésandwichs
ATTACH;FMTTYPE=image/jpeg:https://www.ronny-coutteure.fr/wp-content/uploads/2024/08/LE-CAPITAL-JANV.jpg
END:VEVENT
END:VCALENDAR