BEGIN:VCALENDAR
VERSION:2.0
PRODID:-//Ronny Coutteure - ECPv5.7.0//NONSGML v1.0//EN
CALSCALE:GREGORIAN
METHOD:PUBLISH
X-WR-CALNAME:Ronny Coutteure
X-ORIGINAL-URL:https://www.ronny-coutteure.fr
X-WR-CALDESC:évènements pour Ronny Coutteure
BEGIN:VTIMEZONE
TZID:Europe/Paris
BEGIN:DAYLIGHT
TZOFFSETFROM:+0100
TZOFFSETTO:+0200
TZNAME:CEST
DTSTART:20260329T010000
END:DAYLIGHT
BEGIN:STANDARD
TZOFFSETFROM:+0200
TZOFFSETTO:+0100
TZNAME:CET
DTSTART:20261025T010000
END:STANDARD
END:VTIMEZONE
BEGIN:VEVENT
DTSTART;TZID=Europe/Paris:20260207T180000
DTEND;TZID=Europe/Paris:20260207T193000
DTSTAMP:20260420T095700
CREATED:20250708T130047Z
LAST-MODIFIED:20250902T201843Z
UID:9178-1770487200-1770492600@www.ronny-coutteure.fr
SUMMARY:RESTE SIMPLE VICTORIA PIANASSO
DESCRIPTION:RESTE SIMPLE\nVICTORIA PIANASSO\n \n« La simplicité est la sophistication suprême » c’est pas moi qui le dis c’est Léonard de Vinci.\nPourquoi faire compliqué quand on peut faire simple ? Ou plutôt\, pourquoi faire simple quand on peut faire compliqué ?\nVoilà toute la complexité de l’être humain.\nContemplative de ce dilemme philosophique\, Victoria Pianasso voit les choses en grand. Pour ce premier spectacle\, elle propose un show à l’américaine avec un budget de kermesse.\nEntre standup\, personnages\, et parodies de chansons\, Victoria nous offre un savant mélange de sarcasme et d’absurde.\nÀ la fois mordante et touchante\, elle nous partage ses réflexions sur fond de féminisme et de hits incontournables.\nComme Tina Arena\, Victoria rêve d’aller plus haut\, mais on lui a dit « Reste simple ». Elle n’a pas réussi. \nDurée : 1h05 \nDe et par : Victoria Pianasso\nMise en scène : Yohann Lavéant\nCrédit photo : Léa Badrah \nVictoria Pianasso reçoit l’Auguste de la Révélation Scène de l’année en janvier 2025.\n\n“Victoria Pianasso\, une humoriste très prometteuse.” Vivre FM\n\n“une parenthèse ébouriffante” Toute la culture\n\n“Un talent indéniable de comédienne” Telerama TT \nTarifs : voir page événement !\n \n \n 
URL:https://www.ronny-coutteure.fr/evenement/reste-simple-victoria-pianasso/
LOCATION:Espace culturel Ronny Coutteure\, 28bis\, boulevard des Flandres\, GRENAY\, 62160\, France
CATEGORIES:FestiRonny,Stand-up
ATTACH;FMTTYPE=image/jpeg:https://www.ronny-coutteure.fr/wp-content/uploads/2025/07/Photo-Victoria-Pianasso-RESTE-SIMPLE-©Lea-Badrah-scaled.jpg
END:VEVENT
END:VCALENDAR