BEGIN:VCALENDAR
VERSION:2.0
PRODID:-//Ronny Coutteure - ECPv5.7.0//NONSGML v1.0//EN
CALSCALE:GREGORIAN
METHOD:PUBLISH
X-WR-CALNAME:Ronny Coutteure
X-ORIGINAL-URL:https://www.ronny-coutteure.fr
X-WR-CALDESC:évènements pour Ronny Coutteure
BEGIN:VTIMEZONE
TZID:Europe/Paris
BEGIN:DAYLIGHT
TZOFFSETFROM:+0100
TZOFFSETTO:+0200
TZNAME:CEST
DTSTART:20260329T010000
END:DAYLIGHT
BEGIN:STANDARD
TZOFFSETFROM:+0200
TZOFFSETTO:+0100
TZNAME:CET
DTSTART:20261025T010000
END:STANDARD
END:VTIMEZONE
BEGIN:VEVENT
DTSTART;TZID=Europe/Paris:20260320T200000
DTEND;TZID=Europe/Paris:20260320T200000
DTSTAMP:20260420T182654
CREATED:20250709T071929Z
LAST-MODIFIED:20250902T202454Z
UID:9209-1774036800-1774036800@www.ronny-coutteure.fr
SUMMARY:SUAVE BRUTA ËDA DIAZ
DESCRIPTION:SUAVE BRUTA\nËDA DIAZ\n \nAvec Suave Bruta\, la contrebassiste et chanteuse franco-colombienne Ëda Diaz présente un concert combinant rythmes traditionnels sud-américains et expérimentations électroniques ultra-créatives.\nA m-ichemin entre une carte astrale poétique et un pont express sur l’Atlantique\, Suave Bruta propose une expérience unique.\nDouce ou indomptable ? Organique ou électronique ? Euros ou pesos ? Ne pas choisir\, c’est encore choisir : Ëda Diaz le sait car elle veut tout\, et ne s’en excuse pas ! \n“Folklore d’Amérique latine\, racines bretonnes… Ëda Diaz mixe tout. Avec talent” Télérama TTT\n\n“Un premier album captivant (…) une vraie originalité et un album porteur d’avenir” Le Monde\n\n“Un album sinueux\, qui passe de l’intime au burlesque en quelques notes\, fait de petits bonds dans le temps et qui n’en finit pas de surprendre” Le Figaro\n\n“Archimède réconcilie la chanson française et la pop britannique. dans les 2 registres enfin réunis\, ce duo excelle”. Libération \nDurée : 1H10 \nCrédit photo : Misael Belt \n \n\nTarifs : voir page événement Festifolk \n 
URL:https://www.ronny-coutteure.fr/evenement/suave-bruta-eda-diaz/
LOCATION:Espace culturel Ronny Coutteure\, 28bis\, boulevard des Flandres\, GRENAY\, 62160\, France
CATEGORIES:Concert,Festifolk,Musique
ATTACH;FMTTYPE=image/jpeg:https://www.ronny-coutteure.fr/wp-content/uploads/2025/07/EDA-Nenita-2-Misael-Belt-scaled.jpg
END:VEVENT
END:VCALENDAR