BEGIN:VCALENDAR
VERSION:2.0
PRODID:-//Ronny Coutteure - ECPv5.7.0//NONSGML v1.0//EN
CALSCALE:GREGORIAN
METHOD:PUBLISH
X-WR-CALNAME:Ronny Coutteure
X-ORIGINAL-URL:https://www.ronny-coutteure.fr
X-WR-CALDESC:évènements pour Ronny Coutteure
BEGIN:VTIMEZONE
TZID:Europe/Paris
BEGIN:DAYLIGHT
TZOFFSETFROM:+0100
TZOFFSETTO:+0200
TZNAME:CEST
DTSTART:20260329T010000
END:DAYLIGHT
BEGIN:STANDARD
TZOFFSETFROM:+0200
TZOFFSETTO:+0100
TZNAME:CET
DTSTART:20261025T010000
END:STANDARD
END:VTIMEZONE
BEGIN:VEVENT
DTSTART;TZID=Europe/Paris:20260318T190000
DTEND;TZID=Europe/Paris:20260318T230000
DTSTAMP:20260420T182734
CREATED:20250709T075846Z
LAST-MODIFIED:20250902T202436Z
UID:9218-1773860400-1773874800@www.ronny-coutteure.fr
SUMMARY:TU NE MENTIRAS POINT DE TIM MIELANTS
DESCRIPTION:TU NE MENTIRAS POINT\nFILM DE TIM MIELANTS (VOST)\n \nIrlande\, 1985. Modeste entrepreneur dans la vente de charbon\, Bill Furlong tache de maintenir à flot son entreprise\, et de subvenir aux besoins de sa famille. Un jour\, lors d’une livraison au couvent de la ville\, il fait une découverte qui le bouleverse. Un secret longtemps dissimulé va le confronter à son passé et au silence complice d’une communauté vivant dans la peur et le respect aveugle de l’Eglise catholique.\nUne très belle interprétation de Cillian Murphy dans le rôle d’un personnage tout en intériorité\, plein de sensibilité et d’humanité. Emily Watson est\, quant à elle\, glaçante dans son rôle de mère supérieure d’un couvent de Magdalene Laundry\, une institution tristement célèbre qui avait été mise en place dans plusieurs villes du pays. Avec “The Magdalene Sisters” et le plus récent “Philomena” qui traitaient du même sujet dans des registres différents mais toujours excellents\, le film complète un triptyque assez terrible sur cette page sombre de l’histoire de l’Irlande. Une Irlande muselée\, étouffée et parfois terrifiée par l’Eglise qui a fait fonctionner jusqu‘en 1996 ces centres d’internement pour jeunes filles considérées “de mauvaise vie”. Un fonctionnement qui a bénéficié de la complicité de l’Etat irlandais qui\, pour ses hôpitaux notamment\, y faisait blanchir son linge à moindres frais… \n\nUn débat suivra\, avec la présence d’une invitée irlandaise\, le Dr Gillian O’Brien\, écrivaine-historienne universitaire originaire de Dublin ayant travaillé sur certains dossiers sombres et révoltants de l’histoire irlandaise. L’occasion de revenir avec elle sur ces scandales qui\, à l’image de l’affaire Bétharram en France\, ont choqué et secoué l’Irlande au point de modifier certaines mentalités. \n  \n \nDurée : 1h38\nRéalisation : Tim Mielants\nAvec : avec Cillian Murphy\, Clare Dunne\, Emily Watson \nEn coréalisation avec Artois-Gohelle-Irlande avec le soutien de la Communauté d’Agglomération de Lens-Liévin \nEntrée libre sur réservation
URL:https://www.ronny-coutteure.fr/evenement/tu-ne-mentiras-point-de-tim-mielants/
LOCATION:Espace culturel Ronny Coutteure\, 28bis\, boulevard des Flandres\, GRENAY\, 62160\, France
CATEGORIES:Projection-Conférence
ATTACH;FMTTYPE=image/webp:https://www.ronny-coutteure.fr/wp-content/uploads/2025/07/tu-ne-mentiras-point.webp
END:VEVENT
END:VCALENDAR